BEGIN:VCALENDAR
VERSION:2.0
PRODID:Events Booking
BEGIN:VEVENT
UID:69ea268e433be
SUMMARY:OFICINA - Estudos criminais: o local do crime e a cadeia de custód
 ia
DESCRIPTION:
 
 
 
 Identificação de comportamentos conducentes à pr
 eservação do local do crime com vista à aplicação de medidas de inter
 venção adequadas\, avaliando o impacto delas na condução de uma invest
 igação criminal\, com vista ao zelo da integridade do local do crime e p
 ossíveis vestígios presentes. Compreensão da importância da cadeia de 
 custódia
 
 
 
 
LOCATION:Av. Gentil Bittencourt\, 1144.
DTSTART:20240912T223000Z
DTEND:20240913T003000Z
DTSTAMP:20240820T233044Z
ORGANIZER;CN=Portal de Eventos - Centro Universitário Fibra:MAILTO:eventos
 @fibrapara.edu.br
GEO:-1.455183;-48.482397
X-APPLE-STRUCTURED-LOCATION;VALUE=URI;X-ADDRESS=Av. Gentil Bittencourt\, 11
 44.;X-APPLE-RADIUS=72;X-TITLE=Centro Universitário Fibra:-1.455183;-48.48
 2397
END:VEVENT
END:VCALENDAR