BEGIN:VCALENDAR
VERSION:2.0
PRODID:Events Booking
BEGIN:VEVENT
UID:69ea24ebaa8d3
SUMMARY:OFICINA - Cálculos de verbas trabalhistas
DESCRIPTION:Abordagem dos aspectos legais e práticos da rotina trabalhista
 \, no que diz respeito a cálculos das parcelas recebidas pelos &nbsp\;emp
 regados\, no contexto da relação de emprego.
LOCATION:Av. Gentil Bittencourt\, 1144.
DTSTART:20240912T223000Z
DTEND:20240913T003000Z
DTSTAMP:20240820T233044Z
ORGANIZER;CN=Portal de Eventos - Centro Universitário Fibra:MAILTO:eventos
 @fibrapara.edu.br
GEO:-1.455183;-48.482397
X-APPLE-STRUCTURED-LOCATION;VALUE=URI;X-ADDRESS=Av. Gentil Bittencourt\, 11
 44.;X-APPLE-RADIUS=72;X-TITLE=Centro Universitário Fibra:-1.455183;-48.48
 2397
END:VEVENT
END:VCALENDAR