BEGIN:VCALENDAR
VERSION:2.0
PRODID:Events Booking
BEGIN:VEVENT
UID:69ea26dc54dc7
SUMMARY:OFICINA -  Teoria e Prática de Elaboração do Inquérito Policial
  e do Termo Circunstanciado de Ocorrência- TCO
DESCRIPTION:INQUÉRITO POLICIAL:&nbsp\; Conceito\, natureza\, finalidade e 
 procedimento. Sua função no processo penal. Seu valor probante no atual 
 sistema da legislação processual brasileira. Atos principais. Atos princ
 ipais do inquérito policial. Dispensabilidade do inquérito. TCO: conceit
 o\, fundamento e procedimento. 
LOCATION:Av. Gentil Bittencourt\, 1144.
DTSTART:20240911T223000Z
DTEND:20240912T003000Z
DTSTAMP:20240820T233044Z
ORGANIZER;CN=Portal de Eventos - Centro Universitário Fibra:MAILTO:eventos
 @fibrapara.edu.br
GEO:-1.455183;-48.482397
X-APPLE-STRUCTURED-LOCATION;VALUE=URI;X-ADDRESS=Av. Gentil Bittencourt\, 11
 44.;X-APPLE-RADIUS=72;X-TITLE=Centro Universitário Fibra:-1.455183;-48.48
 2397
END:VEVENT
END:VCALENDAR