BEGIN:VCALENDAR
VERSION:2.0
PRODID:Events Booking
BEGIN:VEVENT
UID:69ea26c7ea023
SUMMARY:OFICINA - Resoluções de questões da OAB de Direito Civil
DESCRIPTION:Resoluções de questões das últimas provas da OAB de Teoria 
 Geral do Direito Privado\, Direito das Obrigações\, Contratos\, Direito 
 das Coisas\, Direito de Família e Direito das Sucessões. A oficina será
  voltada aos alunos e egressos da FIBRA e também ao público externo.
LOCATION:Av. Gentil Bittencourt\, 1144.
DTSTART:20240911T223000Z
DTEND:20240912T003000Z
DTSTAMP:20240820T233044Z
ORGANIZER;CN=Portal de Eventos - Centro Universitário Fibra:MAILTO:eventos
 @fibrapara.edu.br
GEO:-1.455183;-48.482397
X-APPLE-STRUCTURED-LOCATION;VALUE=URI;X-ADDRESS=Av. Gentil Bittencourt\, 11
 44.;X-APPLE-RADIUS=72;X-TITLE=Centro Universitário Fibra:-1.455183;-48.48
 2397
END:VEVENT
END:VCALENDAR