BEGIN:VCALENDAR
VERSION:2.0
PRODID:Events Booking
BEGIN:VEVENT
UID:69ea253a1660b
SUMMARY:OFICINA -  Legislação Penal Contemporânea e os desafios do Siste
 ma Penitenciário paraense
DESCRIPTION:Sabemos que o imaginário e o sentimento popular são impregnad
 os pelo senso coletivo de baixa efetividade do sistema de justiça e descr
 édito do sistema penitenciário. Analisando a legislação penal contempo
 rânea\, seus mecanismos e seus efeitos práticos\, refletiremos sobre as 
 estratégias de controle\, segurança e desenvolvimento de políticas de r
 einserção social no sistema penitenciário paraense.
LOCATION:Av. Gentil Bittencourt\, 1144.
DTSTART:20240911T223000Z
DTEND:20240912T003000Z
DTSTAMP:20240820T233044Z
ORGANIZER;CN=Portal de Eventos - Centro Universitário Fibra:MAILTO:eventos
 @fibrapara.edu.br
GEO:-1.455183;-48.482397
X-APPLE-STRUCTURED-LOCATION;VALUE=URI;X-ADDRESS=Av. Gentil Bittencourt\, 11
 44.;X-APPLE-RADIUS=72;X-TITLE=Centro Universitário Fibra:-1.455183;-48.48
 2397
END:VEVENT
END:VCALENDAR