BEGIN:VCALENDAR
VERSION:2.0
PRODID:Events Booking
BEGIN:VEVENT
UID:69ea26a481041
SUMMARY:OFICINA  -Mandado de Segurança: aspectos procedimentais e prático
 s
DESCRIPTION:“Mandado de Segurança: aspectos procedimentais e práticos
 ”Tópicos:1. Consideracões Gerais2. ?Hipoteses de Cabimento3. ?Legitima
 dos4. ?Jurisprudência sobre o tema5.&nbsp\;?Prática
LOCATION:Av. Gentil Bittencourt\, 1144.
DTSTART:20240911T223000Z
DTEND:20240912T003000Z
DTSTAMP:20240820T233044Z
ORGANIZER;CN=Portal de Eventos - Centro Universitário Fibra:MAILTO:eventos
 @fibrapara.edu.br
GEO:-1.455183;-48.482397
X-APPLE-STRUCTURED-LOCATION;VALUE=URI;X-ADDRESS=Av. Gentil Bittencourt\, 11
 44.;X-APPLE-RADIUS=72;X-TITLE=Centro Universitário Fibra:-1.455183;-48.48
 2397
END:VEVENT
END:VCALENDAR