BEGIN:VCALENDAR
VERSION:2.0
PRODID:Events Booking
BEGIN:VEVENT
UID:69ea26a381457
SUMMARY:OFICINA - Treinando o Direito Empresarial para a 2ª fase no Exame 
 de Ordem
DESCRIPTION:Elaboração de peças que envolvam garantias fundamentais (Man
 dado de Segurança e Habeas Data)
LOCATION:Av. Gentil Bittencourt\, 1144.
DTSTART:20240911T223000Z
DTEND:20240912T003000Z
DTSTAMP:20240820T233044Z
ORGANIZER;CN=Portal de Eventos - Centro Universitário Fibra:MAILTO:eventos
 @fibrapara.edu.br
GEO:-1.455183;-48.482397
X-APPLE-STRUCTURED-LOCATION;VALUE=URI;X-ADDRESS=Av. Gentil Bittencourt\, 11
 44.;X-APPLE-RADIUS=72;X-TITLE=Centro Universitário Fibra:-1.455183;-48.48
 2397
END:VEVENT
END:VCALENDAR