BEGIN:VCALENDAR
VERSION:2.0
PRODID:Events Booking
BEGIN:VEVENT
UID:69ea23f98f86a
SUMMARY:Painel 16 – DIREITO AMAZÔNICO: JUSTIÇA AMAZÔNIDA
DESCRIPTION:Painel 16 – DIREITO AMAZÔNICO: JUSTIÇA AMAZÔNIDA
 Mediado
 r:
 DEL DERECHO AGRARIO AMAZÓNICO NACIONAL\, REGIONAL E INTERNACIONAL AL
  DERECHO COMUNITARIO Y LA JUSTICIA AGRARIA AMAZÓNICA
 Palestrante: Enriq
 ue Napoleón Ulate Chacón (Costa Rica)
 ANÁLISIS CRÍTICO DEL SERVICIO 
 DE JUSTICIA AGROAMBIENTAL EN BOLIVIA: RETOS Y PERSPECTIVAS PARA LA PROTECC
 IÓN AMBIENTAL Y LA SOLUCIÓN PACÍFICA DE CONFLICTOS AGROAMBIENTALES
 Pa
 lestrante: Pablo Valeriano Barroso (Bolívia)
 ?USUFRUCTO DE LA TIERRA EM
  CUBA: POSIBLE EN AMAZONÍA BRASILEIRA?
 Palestrante: Miguel Balber Perez
  (Cuba)
 SOBERANIA ALIMENTAR\, MUDANÇAS CLIMÁTICAS E O TCA: UM ESTUDO N
 A AMAZÔNIA BRASILEIRA VISANDO O DHAA
 Palestrante: Gil Ramos de Carvalho
  Neto (Brasil)
LOCATION:Hangar Centro de Convenções e Feiras da Amazônia
DTSTART:20240913T200000Z
DTEND:20240913T210000Z
DTSTAMP:20240820T233044Z
ORGANIZER;CN=Portal de Eventos - Centro Universitário Fibra:MAILTO:eventos
 @fibrapara.edu.br
GEO:-1.422834;-48.457339
X-APPLE-STRUCTURED-LOCATION;VALUE=URI;X-ADDRESS=Hangar Centro de Convençõ
 es e Feiras da Amazônia;X-APPLE-RADIUS=72;X-TITLE=Hangar Centro de Conven
 ções & Feiras da Amazônia:-1.422834;-48.457339
END:VEVENT
END:VCALENDAR