BEGIN:VCALENDAR
VERSION:2.0
PRODID:Events Booking
BEGIN:VEVENT
UID:69ea25fa59594
SUMMARY:Painel 13 – DIREITO AMAZÔNICO: O SUJEITO DE DIREITO E A POSSE CA
 BOCA
DESCRIPTION:Painel 13 – DIREITO AMAZÔNICO: O SUJEITO DE DIREITO E A POSS
 E CABOCA
 Mediador: Marco Antônio dos Santos Vieira
 A POSSE CABOCA E A
  COP 30
 Palestrante: Juliana de Castro Menezes Rangel (Brasil)
 AS RELA
 ÇÕES ÉTNICO-RACIAIS E O CONTEXTO AMAZÔNICO: POR MODELOS BASEADOS NA AU
 TONOMIA DOS SUJEITOS
 Palestrante: Paulo Fernando S. Pereira (Brasil)
 I
 NTERESSES ESTRANGEIROS NA AMAZÔNIA E NAS TERRAS NACIONAIS: ASPECTOS E REF
 LEXÕES
 Palestrante: Rogério Reis Devisate (Brasil)
 (IN) JUSTIÇA AMB
 IENTAL DE GÊNERO NA AMAZÔNIA LEGAL - MULHERES AMAZÔNIDA EM FOCO
 Pales
 trante: Glenda Karen Santos da Paixão (Brasil)
LOCATION:Hangar Centro de Convenções e Feiras da Amazônia
DTSTART:20240913T120000Z
DTEND:20240913T130000Z
DTSTAMP:20240820T233044Z
ORGANIZER;CN=Portal de Eventos - Centro Universitário Fibra:MAILTO:eventos
 @fibrapara.edu.br
GEO:-1.422834;-48.457339
X-APPLE-STRUCTURED-LOCATION;VALUE=URI;X-ADDRESS=Hangar Centro de Convençõ
 es e Feiras da Amazônia;X-APPLE-RADIUS=72;X-TITLE=Hangar Centro de Conven
 ções & Feiras da Amazônia:-1.422834;-48.457339
END:VEVENT
END:VCALENDAR