BEGIN:VCALENDAR
VERSION:2.0
PRODID:Events Booking
BEGIN:VEVENT
UID:69ea23d98dac4
SUMMARY:Painel 9 – O DIREITO AGRÁRIO: MUDANÇAS CLIMÁTICAS
DESCRIPTION:Painel 9 – O DIREITO AGRÁRIO: MUDANÇAS CLIMÁTICAS\n&nbsp\;
 &nbsp\;&nbsp\;&nbsp\;&nbsp\;&nbsp\;&nbsp\;&nbsp\;&nbsp\;&nbsp\;&nbsp\; Med
 iador:\nDIREITO DE USO E APROVEITAMENTO DE TERRA (DUAT) NA PERSPECTIVA HIS
 TÓRICA\nPalestrante: Xavier Antonio Lucas (Moçambique)\n&nbsp\;&nbsp\;&n
 bsp\;&nbsp\;&nbsp\;&nbsp\;&nbsp\;&nbsp\;&nbsp\;&nbsp\;&nbsp\;&nbsp\;&nbsp\
 ;&nbsp\;&nbsp\;&nbsp\;&nbsp\;&nbsp\;&nbsp\;&nbsp\;&nbsp\;&nbsp\;&nbsp\;\nE
 STRATEGIAS SUPERADORAS DEL IMPACTO DEL CAMBIO CLIMÁTICO EN LA ACTIVIDAD A
 GRARIA\nPalestrante:&nbsp\; Claudia Zeman&nbsp\; e Giannina Nediani (Argen
 tina)\n&nbsp\;&nbsp\;&nbsp\;&nbsp\;&nbsp\;&nbsp\;&nbsp\;&nbsp\;&nbsp\;&nbs
 p\;&nbsp\;&nbsp\;&nbsp\;&nbsp\;&nbsp\;&nbsp\;&nbsp\;&nbsp\;&nbsp\;&nbsp\;&
 nbsp\;&nbsp\;&nbsp\;\nCHANGES IN AGRICULTURAL LAND USE IN THE LULUCF SECTO
 R AS AN INSTRUMENT FOR ADAPTING TO CLIMATE CHANGE\nPalestrante: Monika Kr
 ól (Polônia)\nTHE UNDIGESTED RESTORATION OF AGRI-FOOD ECOSYSTEMS UNDER T
 HE EU NATURE RESTOARATION LAW\nPalestrante: Enrico Mezzacapo (Itália)
LOCATION:Hangar Centro de Convenções e Feiras da Amazônia
DTSTART:20240912T190000Z
DTEND:20240912T200000Z
DTSTAMP:20240820T233044Z
ORGANIZER;CN=Portal de Eventos - Centro Universitário Fibra:MAILTO:eventos
 @fibrapara.edu.br
GEO:-1.422834;-48.457339
X-APPLE-STRUCTURED-LOCATION;VALUE=URI;X-ADDRESS=Hangar Centro de Convençõ
 es e Feiras da Amazônia;X-APPLE-RADIUS=72;X-TITLE=Hangar Centro de Conven
 ções & Feiras da Amazônia:-1.422834;-48.457339
END:VEVENT
END:VCALENDAR