BEGIN:VCALENDAR
VERSION:2.0
PRODID:Events Booking
BEGIN:VEVENT
UID:69ea23a6c4712
SUMMARY:Painel 8 – O DIREITO AGRÁRIO: MUDANÇA CLIMÁTICA\, TRANSIÇÃO 
 ENERGÉTICA E DIGITAL
DESCRIPTION:Painel 8 – O DIREITO AGRÁRIO: MUDANÇA CLIMÁTICA\, TRANSIÇ
 ÃO ENERGÉTICA E DIGITAL\n&nbsp\;&nbsp\;&nbsp\;&nbsp\;&nbsp\;&nbsp\;&nbsp
 \;&nbsp\;\nMediador:\nDESAFÍOS DEL DERECHO AGRARIO EN LA CONTEXTO ACTUAL 
 DEL CAMBIO CLIMÁTICO\, TRANSICIÓN ENERGÉTICA Y DIGITAL. INCIDENCIA DE L
 A NEXT GENERATION SOBRE LA FINANCIACIÓN DE LA PAC EN ESPANÃ\nPalestrante
 : Angél Sánchez Hernández (Espanha)\n&nbsp\;\nACESSO Y USO DE TECNOLOG
 ÍAS AGRÍCOLAS A TRAVÉS DE INTERNET COMO DERECHO HUMANO\nPalestrante:&nb
 sp\; Maria Adriana Victoria (Argentina)\n&nbsp\;\nRENEWABLE ENERGY SOURCES
  IN RURAL AREAS: LEGAL ISSUES (POLISH EXPERIENCE)\nPalestrante: Konrad Mar
 ciniuk\, Adam Niewiadomski e Pawel Wojciechowski (Polônia)\nTENDÊNCIAS E
  DESAFIOS DA INTELIGÊNCIA ARTIFICIAL NA AGRICULTURA E SEUS IMPACTOS JURÍ
 DICOS NO AGRONEGÓCIO\nPalestrante: Elisabete Aloia Amaro &nbsp\;e Washing
 ton Carlos de Almeida (Brasil)
LOCATION:Hangar Centro de Convenções e Feiras da Amazônia
DTSTART:20240912T180000Z
DTEND:20240912T190000Z
DTSTAMP:20240820T233044Z
ORGANIZER;CN=Portal de Eventos - Centro Universitário Fibra:MAILTO:eventos
 @fibrapara.edu.br
GEO:-1.422834;-48.457339
X-APPLE-STRUCTURED-LOCATION;VALUE=URI;X-ADDRESS=Hangar Centro de Convençõ
 es e Feiras da Amazônia;X-APPLE-RADIUS=72;X-TITLE=Hangar Centro de Conven
 ções & Feiras da Amazônia:-1.422834;-48.457339
END:VEVENT
END:VCALENDAR