BEGIN:VCALENDAR
VERSION:2.0
PRODID:Events Booking
BEGIN:VEVENT
UID:69ea23f4daa6f
SUMMARY:Painel 12 –  O DIREITO AGRÁRIO: SEGURANÇA ALIMENTAR
DESCRIPTION:Painel 12 –&nbsp\; O DIREITO AGRÁRIO: SEGURANÇA ALIMENTAR\n
 Mediador: João Paulo Fortes Perina\nL’ECONOMIA CIRCOLARE E IL PROBLEMA 
 DELLA QUALIFICAZIONE GIURIDICA DEGLI SCARTI DI PRODUZIONE NEL CONTESTO DEL
 LA FOOD WASTE\nPalestrante: Mario Mauro (Itália)\nESTADO DA ARTE DAS DISC
 USSÕES JURÍDICAS SOBRE POLÍTICAS PÚBLICAS DE COMBATE AO DESPERDÍCIO D
 E ALIMENTOS NO BRASIL\nPalestrante: Teresa Gomes Cafolla (Brasil)\nCONCURS
 O MUNICIPAL POR POLÍTICAS PÚBLICAS PARA PROMOÇÃO DE ALIMENTAÇÃO ADEQ
 UADA E COMBATE À PERDA E DESPERDÍCIO DE ALIMENTOS - ANÁLISE DAS REGULAM
 ENTAÇÕES DO MUNICÍPIO DE SÃO PAULO\nPalestrante:&nbsp\; Taísa Cintra 
 Dosso (Brasil)\nDESENVOLVIMENTO RURAL E SEGURANÇA ALIMENTAR E NUTRICIONAL
  ATRAVÉS DE MERCADOS INSTITUCIONAIS: DESAFIOS E OPORTUNIDADES DE ATUAÇÃ
 O DO DIREITO AGRÁRIO BRASILEIRO\nPalestrante: Felipe Jabali Marques (Bras
 il)\nLOS DESAFÍOS DE LA IDENTIDAD ALIMENTARIA EN MÉXICO FRENTE A LA NUEV
 A LEY GENERAL DE ALIMENTACIÓN ADECUADA Y SOSTENIBLE\nPalestrante: María 
 Luisa Fernanda Avila Valencia (México)
LOCATION:Hangar Centro de Convenções e Feiras da Amazônia
DTSTART:20240912T223000Z
DTEND:20240912T233000Z
DTSTAMP:20240820T233044Z
ORGANIZER;CN=Portal de Eventos - Centro Universitário Fibra:MAILTO:eventos
 @fibrapara.edu.br
GEO:-1.422834;-48.457339
X-APPLE-STRUCTURED-LOCATION;VALUE=URI;X-ADDRESS=Hangar Centro de Convençõ
 es e Feiras da Amazônia;X-APPLE-RADIUS=72;X-TITLE=Hangar Centro de Conven
 ções & Feiras da Amazônia:-1.422834;-48.457339
END:VEVENT
END:VCALENDAR