BEGIN:VCALENDAR
VERSION:2.0
PRODID:Events Booking
BEGIN:VEVENT
UID:69ea23f46165f
SUMMARY:Painel 11 – O DIREITO AGRÁRIO: MUDANÇA CLIMÁTICA\, SOBERANIA E
  SEGURANÇA ALIMENTAR
DESCRIPTION:Painel 11 – O DIREITO AGRÁRIO: MUDANÇA CLIMÁTICA\, SOBERAN
 IA E SEGURANÇA ALIMENTAR\nMediador:\nREPENSANDO EL DERECHO AGRARIO EN CLA
 VE CLIMÁTICA Y DE SEGURIDAD ALIMENTARIA: ALGUNAS REFLEXIONES\nPalestrante
 : Roxana Romero (Argentina)\nLA RECIENTE ATENCIÓN A LA SEGURIDAD ALIMENTA
 RIA POR PARTE DE LA ORGANIZACIÓN MUNDIAL DEL COMERCIO: REALIDADES Y PERSP
 ECTIVAS\nPalestrante: Miguel Àngel Martín López (Espanha)\n&nbsp\;\nTHE
  FOODS COMMONS APPROACH IN THE EU AGRI-FOOD LAW: A NOVEL PERSPECTIVE TOWAR
 DS MORE ECOLOGICAL FOOD SYSTEMS IN EUROPE\nPalestrante: Antonio Manzoni (I
 tália)\n&nbsp\;\nTHE ONE HEALTH APPROACH AND THE “JUST” TRANSITION TO
  SUSTAINABLE AGRO FOOD SYSTEMS\nPalestrante: Francesca Coli (Itália)
LOCATION:Hangar Centro de Convenções e Feiras da Amazônia
DTSTART:20240912T213000Z
DTEND:20240912T223000Z
DTSTAMP:20240820T233044Z
ORGANIZER;CN=Portal de Eventos - Centro Universitário Fibra:MAILTO:eventos
 @fibrapara.edu.br
GEO:-1.422834;-48.457339
X-APPLE-STRUCTURED-LOCATION;VALUE=URI;X-ADDRESS=Hangar Centro de Convençõ
 es e Feiras da Amazônia;X-APPLE-RADIUS=72;X-TITLE=Hangar Centro de Conven
 ções & Feiras da Amazônia:-1.422834;-48.457339
END:VEVENT
END:VCALENDAR