BEGIN:VCALENDAR
VERSION:2.0
PRODID:Events Booking
BEGIN:VEVENT
UID:69ea23d8eeac0
SUMMARY:Painel 10 – O DIREITO AGRÁRIO: MUDANÇAS CLIMÁTICAS E DESMATAME
 NTO
DESCRIPTION:Painel 10 – O DIREITO AGRÁRIO: MUDANÇAS CLIMÁTICAS E DESMA
 TAMENTO\nMediador:\nREGLAMENTO UE 2023/1115: ¿ PROTECCIÓN AMBIENTAL\, ME
 DIDA PARA-ARANCELARIA U OPORTUNIDAD?\nPalestrante: Luis Facciano (Argentin
 a)\nO DESAFIO AMBIENTAL DO COMÉRCIO INTERNACIONAL: O “MADE IN UE” PAR
 A OS PRODUTOS AGRÍCOLAS ENTRE A DIRECTIVA RED (2001/2018) E O REGULAMENTO
  EURD (1115/2023)\nPalestrante: Flávia Trentini (Brasil)\nIMPACTO DEL CAM
 BIO CLIMÁTICO Y LA DEFORESTACIÓN EN EL COMERCIO INTERNACIONAL Y SUS REPE
 RCUSIONES EN LOS DERECHOS AGRARIOS LOCALES\nPalestrante: Alfredo Diloreto 
 (Argentina)\nREGULACIÓN DE MATERIAS PRIMAS Y PRODUCTOS AGRARIOS LIBRES DE
  DEFORESTACIÓN Y DE DEGRADACIÓN FORESTAL EN LA UNIÓN EUROPEA\nPalestran
 te: Gustavo González Acosta (Argentina)
LOCATION:Hangar Centro de Convenções e Feiras da Amazônia
DTSTART:20240912T200000Z
DTEND:20240912T210000Z
DTSTAMP:20240820T233044Z
ORGANIZER;CN=Portal de Eventos - Centro Universitário Fibra:MAILTO:eventos
 @fibrapara.edu.br
GEO:-1.422834;-48.457339
X-APPLE-STRUCTURED-LOCATION;VALUE=URI;X-ADDRESS=Hangar Centro de Convençõ
 es e Feiras da Amazônia;X-APPLE-RADIUS=72;X-TITLE=Hangar Centro de Conven
 ções & Feiras da Amazônia:-1.422834;-48.457339
END:VEVENT
END:VCALENDAR