BEGIN:VCALENDAR
VERSION:2.0
PRODID:Events Booking
BEGIN:VEVENT
UID:69ea23f9b65bd
SUMMARY:Painel 7 - O DIREITO AGRÁRIO: MUDANÇA CLIMÁTICA\, PRODUÇÃO AGR
 ÁRIA E PROTEÇÃO DA NATUREZA
DESCRIPTION:Painel 7 - O DIREITO AGRÁRIO: MUDANÇA CLIMÁTICA\, PRODUÇÃO
  AGRÁRIA E PROTEÇÃO DA NATUREZA \nMediador:\nIL REGOLAMENTO EUROPEO SUL
  RIPRISTINO DELLA NATURA E L’IMPATTO PER L’AGRICOLTURA\nPalestrante: G
 iuseppe Spoto (Itália)\n&nbsp\;\nCHALLENGES OF EUROPEAN AGRICULTURAL LAW 
 IN THE FACE OF NEW GENE TECHNOLOGIES\nPalestrante: Pawel Gala\, Pawel Blaz
 er (Polônia)\nEXPLORING EUROPEAN URBAN FOOD POLICY DEVELOPMENT: INSIGHTS 
 FROM A COMPARATIVE ANALYSIS OF EUROPEAN CITIES - GAPS AND CHALLENGES IN TH
 E EU LEGISLATIVE FRAMEWORK\nPalestrante: Giulia Corsini (Itália)\n&nbsp\;
 \nECOSYSTEMS SERVICES AND AGRO-CLIMATE-ENVIRONMENTAL COMMITMENT IN THE EU:
  A LEGAL ANALYSIS\nPalestrante: Andrea Saba (Itália)
LOCATION:Hangar Centro de Convenções e Feiras da Amazônia
DTSTART:20240911T230000Z
DTEND:20240912T000000Z
DTSTAMP:20240820T233044Z
ORGANIZER;CN=Portal de Eventos - Centro Universitário Fibra:MAILTO:eventos
 @fibrapara.edu.br
GEO:-1.422834;-48.457339
X-APPLE-STRUCTURED-LOCATION;VALUE=URI;X-ADDRESS=Hangar Centro de Convençõ
 es e Feiras da Amazônia;X-APPLE-RADIUS=72;X-TITLE=Hangar Centro de Conven
 ções & Feiras da Amazônia:-1.422834;-48.457339
END:VEVENT
END:VCALENDAR