BEGIN:VCALENDAR
VERSION:2.0
PRODID:Events Booking
BEGIN:VEVENT
UID:69ea25f956dd8
SUMMARY:Painel 6 – O DIREITO AGRÁRIO:  MUDANÇA CLIMÁTICA E RESILIÊNCI
 A - DESENVOLVIMENTO RURAL
DESCRIPTION:Painel 6 – O DIREITO AGRÁRIO:&nbsp\; MUDANÇA CLIMÁTICA E R
 ESILIÊNCIA - DESENVOLVIMENTO RURAL\nMediador:\nLA RESILIENZA DELL’AGRIC
 OLTURA ALLE CALAMITÀ LEGATE AI CAMBIAMENTI CLIMATICI: GLI STRUMENTI CHE A
 BBIAMO A DISPOSIZIONE SONO SUFFICIENTI?\nPalestrante: Rossana Pennazio (It
 ália)\n&nbsp\;\nINSEGURIDAD ALIMENTARIA Y DESASTRES NATURALES EN HONDURAS
 : ¿UNA OPORTUNIDAD JURÍDICA PARA PROMOVER LA AGROECOLOGÍA?\nPalestrante
 : Andrea Carolina Zúniga (Honduras)\n&nbsp\;\nLEGAL INSTRUMENTS FOR BUILD
 ING CLIMATE RESILIENCE OF FOOD SYSTEMS IN SOIL MANAGEMENT\, SELECTED ASPEC
 TS\nPalestrante: Katarzyna Le?kiewicz (Polonia)\nESTRATEGIAS DE PROTECCIÓ
 N DEL SUELO DE USO&nbsp\; AGRARIO FRENTE AL AVANCE DE OTROS USOS\nPalestra
 nte: Juan Carlos Fernández (Argentina)\nPRINCIPALES RETOS DE LA ENSEÑANZ
 A DEL DERECHO AGRARIO EN EL DESARROLLO RURAL SUSTENTABLE EN MEXICO. UN ENF
 OQUE INTERDISCIPLINARIO COMO EJE INTEGRADOR EN LOS PROGRAMAS DE ESTUDIO UN
 IVERSITARIOS\nPalestrante: Maria del Rosario Valencia Salcedo (México)
LOCATION:Hangar Centro de Convenções e Feiras da Amazônia
DTSTART:20240911T220000Z
DTEND:20240911T230000Z
DTSTAMP:20240820T233044Z
ORGANIZER;CN=Portal de Eventos - Centro Universitário Fibra:MAILTO:eventos
 @fibrapara.edu.br
GEO:-1.422834;-48.457339
X-APPLE-STRUCTURED-LOCATION;VALUE=URI;X-ADDRESS=Hangar Centro de Convençõ
 es e Feiras da Amazônia;X-APPLE-RADIUS=72;X-TITLE=Hangar Centro de Conven
 ções & Feiras da Amazônia:-1.422834;-48.457339
END:VEVENT
END:VCALENDAR