BEGIN:VCALENDAR
VERSION:2.0
PRODID:Events Booking
BEGIN:VEVENT
UID:69ea25f849c53
SUMMARY:Painel 5 – O DIREITO AGRÁRIO: MUDANÇAS CLIMÁTICAS\, PRODUTIVID
 ADE AGRÍCOLA E SUSTENTABILIDADE
DESCRIPTION:Painel 5 – O DIREITO AGRÁRIO: MUDANÇAS CLIMÁTICAS\, PRODUT
 IVIDADE AGRÍCOLA E SUSTENTABILIDADE\nMediador:\nIL NUOVO REGOLAMENTO UE S
 ULL’AGRICOLTURA BIOLOGICA: UN MODELLO DI PRODUZIONE SOSTENIBILE CHE “C
 ONTRIBUISCE A TUTELARE L’AMBIENTE E IL CLIMA”\nPalestrante: Eloisa Cri
 stiani (Itália)\n&nbsp\;\nDESAFÍOS EN EL DESARROLLO AGRÍCOLA DE INSUMOS
  ALTERNATIVOS: EL CASO DE LOS BIOPREPARADOS Y BIOINSUMOS EN ARGENTINA\nPal
 estrante: María Victoria Diloreto (Argentina)\n&nbsp\;\nBENESSERE ANIMALE
  NEGLI ALLEVAMENTI E PROTEZIONE DURANTE L’ABBATTIMENTO. MACELLAZIONE RIT
 UALE?\nPalestrante: Roberto Saija (Itália)
LOCATION:Hangar Centro de Convenções e Feiras da Amazônia
DTSTART:20240911T203000Z
DTEND:20240911T213000Z
DTSTAMP:20240820T233044Z
ORGANIZER;CN=Portal de Eventos - Centro Universitário Fibra:MAILTO:eventos
 @fibrapara.edu.br
GEO:-1.422834;-48.457339
X-APPLE-STRUCTURED-LOCATION;VALUE=URI;X-ADDRESS=Hangar Centro de Convençõ
 es e Feiras da Amazônia;X-APPLE-RADIUS=72;X-TITLE=Hangar Centro de Conven
 ções & Feiras da Amazônia:-1.422834;-48.457339
END:VEVENT
END:VCALENDAR