BEGIN:VCALENDAR
VERSION:2.0
PRODID:Events Booking
BEGIN:VEVENT
UID:69ea23fa3b7d3
SUMMARY:Painel 4 - Abertura do XVI Congresso Mundial de Direito Agrário da
  UMAU
DESCRIPTION:Palestras de Abertura do XVI Congresso Mundial de Direito Agrá
 rio da UMAU
 EL DESAFÍO DE AMPLIAR EL CONTENIDO DEL DERECHO AGRARIO EN E
 L CONTEXTO ACTUAL\, SIN PERDER DE VISTA SU SISTEMÁTICA
 Palestrante: Leo
 nardo Pastorino (Argentina)
 INNOVAZIONE NEL MERCATO AGROALIMENTARE FRA 
 “ROTTURE SIMBOLICHE” E “NORME TECNICHE”
 Palestrante: Alessandra 
 Di Lauro (Italia)
 15h30 – Painel 4 – O DIREITO AGRÁRIO: MUDANÇAS C
 LIMÁTICAS\, PRODUTIVIDADE AGRÍCOLA E SUSTENTABILIDADE
 Mediador:
 FACI
 NG CLIMATE EMERGENCY BY REINVENTING THE AGRICULTURAL AND FOOD LEGAL SYSTEM
 
 Palestrante: Luc Bodiguel (França)
 MUDANÇAS CLIMÁTICAS E SEU IMPAC
 TO NA AGRICULTURA E ECONOMIA MOÇAMBICANA
 Palestrante: Eduardo Chiziane 
 (Moçambique)
 &nbsp\;
 AGRICOLO O INDUSTRIALE? LA RIFORMA DELLA DIRETTI
 VA SULLE EMISSIONI INDUSTRIALI (IED) E IL SUO IMPATTO SUL SETTORE AGRICOLO
  E AGRO-ALIMENTARE
 Palestrante: Giulia Torre (Itália)
 THE NEW DELIVER
 Y MODEL OF THE EU COMMON AGRICULTURAL POLICY IS NOT DELIVERING ON SUSTAINA
 BILITY
 Palestrante: Mariagrazia Alabrese (Itália)
LOCATION:Hangar Centro de Convenções e Feiras da Amazônia
DTSTART:20240911T180000Z
DTEND:20240911T203000Z
DTSTAMP:20240820T233044Z
ORGANIZER;CN=Portal de Eventos - Centro Universitário Fibra:MAILTO:eventos
 @fibrapara.edu.br
GEO:-1.422834;-48.457339
X-APPLE-STRUCTURED-LOCATION;VALUE=URI;X-ADDRESS=Hangar Centro de Convençõ
 es e Feiras da Amazônia;X-APPLE-RADIUS=72;X-TITLE=Hangar Centro de Conven
 ções & Feiras da Amazônia:-1.422834;-48.457339
END:VEVENT
END:VCALENDAR