BEGIN:VCALENDAR
VERSION:2.0
PRODID:Events Booking
BEGIN:VEVENT
UID:69ea23d912d81
SUMMARY:Painel 2 – DIREITO AMAZÔNICO: FUNDAMENTO JURÍDICO
DESCRIPTION:Painel 2 – DIREITO AMAZÔNICO: FUNDAMENTO JURÍDICO\nMediador
 a: Themis Eloana (Brasil)\nDIREITO AMAZÔNICO: DO CONHECIMENTO REGIONAL À
  PROTEÇÃO JURÍDICA DA AMAZÔNIA\, EM FACE DA COP 30\nPalestrante: Aless
 andra Mahé Costa Rodrigues (Brasil)\nAMAZÔNIA\, SOBERANIA E BENS PÚBLIC
 OS GLOBAIS: A TEORIA JURÍDICA DE SUA INTERNACIONALIZAÇÃO\nPalestrante: 
 Júlio Antônio Lopes (Brasil)\nREVELANDO A POSSE AGROECOLÓGICA ATRAVÉS 
 DO VÉU DA FUNÇÃO SOCIOAMBIENTAL AGRÁRIA\nPalestrante: Alexandre Valent
 e Selistre (Brasil)\nLA GESTIÓN DE LOS BOSQUES AMAZÓNICOS E LOS DERECHOS
  HUMANOS COLETIVOS EM RELACIÓN A COP 30 \nPalestrante: Gunther Hernán Go
 nzales Barrón (Peru)
LOCATION:Hangar Centro de Convenções e Feiras da Amazônia
DTSTART:20240911T133000Z
DTEND:20240911T143000Z
DTSTAMP:20240820T233044Z
ORGANIZER;CN=Portal de Eventos - Centro Universitário Fibra:MAILTO:eventos
 @fibrapara.edu.br
GEO:-1.422834;-48.457339
X-APPLE-STRUCTURED-LOCATION;VALUE=URI;X-ADDRESS=Hangar Centro de Convençõ
 es e Feiras da Amazônia;X-APPLE-RADIUS=72;X-TITLE=Hangar Centro de Conven
 ções & Feiras da Amazônia:-1.422834;-48.457339
END:VEVENT
END:VCALENDAR