BEGIN:VCALENDAR
VERSION:2.0
PRODID:Events Booking
BEGIN:VEVENT
UID:69ea2715c4444
SUMMARY:Filme Robô Selvagem - Dilemas éticos sobre Direito de Família\, 
 Direito dos Animais e Responsabilidade Ambiental
DESCRIPTION:
LOCATION:Av. Gentil Bittencourt\, 1144.
DTSTART:20251022T120000Z
DTEND:20251022T140000Z
DTSTAMP:20250922T172406Z
ORGANIZER;CN=Portal de Eventos - Centro Universitário Fibra:MAILTO:eventos
 @fibrapara.edu.br
GEO:-1.455183;-48.482397
X-APPLE-STRUCTURED-LOCATION;VALUE=URI;X-ADDRESS=Av. Gentil Bittencourt\, 11
 44.;X-APPLE-RADIUS=72;X-TITLE=Centro Universitário Fibra:-1.455183;-48.48
 2397
END:VEVENT
END:VCALENDAR