BEGIN:VCALENDAR
VERSION:2.0
PRODID:Events Booking
BEGIN:VEVENT
UID:69ea264b9d693
SUMMARY:Submissão de Trabalhos
DESCRIPTION:Acesse as regras para submissão dos trabalhos clicando no link
  a seguir:
 &nbsp\;
 Edital 12-2024 - Submissão de Trabalhos
LOCATION:Av. Gentil Bittencourt\, 1144.
DTSTART:20240820T030000Z
DTEND:20240902T150000Z
DTSTAMP:20240820T233044Z
ORGANIZER;CN=Portal de Eventos - Centro Universitário Fibra:MAILTO:eventos
 @fibrapara.edu.br
GEO:-1.455183;-48.482397
X-APPLE-STRUCTURED-LOCATION;VALUE=URI;X-ADDRESS=Av. Gentil Bittencourt\, 11
 44.;X-APPLE-RADIUS=72;X-TITLE=Centro Universitário Fibra:-1.455183;-48.48
 2397
END:VEVENT
END:VCALENDAR