BEGIN:VCALENDAR
VERSION:2.0
PRODID:Events Booking
BEGIN:VEVENT
UID:69e9e6c04888d
SUMMARY:XXV Jornada Jurídica
DESCRIPTION:
 &nbsp\;
 
 &nbsp\;
 Clique aqui para baixar os Anais do X
 V Jornada Jurídica do Curso de Direito
LOCATION:Av. Gentil Bitencourt\, 650
DTSTART:20231024T110000Z
DTEND:20231026T010000Z
DTSTAMP:20230821T061430Z
ORGANIZER;CN=Portal de Eventos - Centro Universitário Fibra:MAILTO:eventos
 @fibrapara.edu.br
GEO:-1.455993;-48.486518
X-APPLE-STRUCTURED-LOCATION;VALUE=URI;X-ADDRESS=Av. Gentil Bitencourt\, 650
 ;X-APPLE-RADIUS=72;X-TITLE=Centur (Centro Cultural e Turístico Tancredo N
 eves):-1.455993;-48.486518
END:VEVENT
END:VCALENDAR