BEGIN:VCALENDAR
VERSION:2.0
PRODID:Events Booking
BEGIN:VEVENT
UID:69e9e6c4deacf
SUMMARY:XXIV Jornada Jurídica
DESCRIPTION:XXIV Jornada Jurídica do Curso de Direito do Centro Universit
 ário FibraTradicional evento jurídico que visa congregar os discentes do
  curso de Direito do Centro Universitário Fibra.
LOCATION:Av. Gentil Bittencourt\, 1144.
DTSTART:20221019T120000Z
DTEND:20221021T010000Z
DTSTAMP:20221001T034755Z
ORGANIZER;CN=Portal de Eventos - Centro Universitário Fibra:MAILTO:eventos
 @fibrapara.edu.br
GEO:-1.455183;-48.482397
X-APPLE-STRUCTURED-LOCATION;VALUE=URI;X-ADDRESS=Av. Gentil Bittencourt\, 11
 44.;X-APPLE-RADIUS=72;X-TITLE=Centro Universitário Fibra:-1.455183;-48.48
 2397
END:VEVENT
END:VCALENDAR