BEGIN:VCALENDAR
VERSION:2.0
PRODID:Events Booking
BEGIN:VEVENT
UID:69e9020585306
SUMMARY:XVI FEIRA DO EMPREENDEDOR - Economia Circular na Amazônia: Uma Abo
 rdagem Empresarial Sustentável
DESCRIPTION:A XVI Feira do Empreendedor do Centro Universitário Fibra abor
 dará a temática \"Economia circular na Amazônia: uma abordagem empresar
 ial sustentável\". Este evento visa promover discussões e práticas de s
 ustentabilidade no ambiente empresarial\, alinhando-se aos compromissos gl
 obais de preservação ambiental e responsabilidade&nbsp\;social.
 
LOCATION:Av. Gentil Bittencourt\, 1144.
DTSTART:20241121T170000Z
DTEND:20241121T210000Z
DTSTAMP:20241029T163026Z
ORGANIZER;CN=Portal de Eventos - Centro Universitário Fibra:MAILTO:eventos
 @fibrapara.edu.br
GEO:-1.455183;-48.482397
X-APPLE-STRUCTURED-LOCATION;VALUE=URI;X-ADDRESS=Av. Gentil Bittencourt\, 11
 44.;X-APPLE-RADIUS=72;X-TITLE=Centro Universitário Fibra:-1.455183;-48.48
 2397
END:VEVENT
END:VCALENDAR