BEGIN:VCALENDAR
VERSION:2.0
PRODID:Events Booking
BEGIN:VEVENT
UID:69e949025052c
SUMMARY:Empreender na saúde e na vida - Fundamentos práticos para começa
 r
DESCRIPTION:
LOCATION:Av. Gentil Bittencourt\, 1144.
DTSTART:20241121T170000Z
DTEND:20241121T180000Z
DTSTAMP:20241029T163026Z
ORGANIZER;CN=Portal de Eventos - Centro Universitário Fibra:MAILTO:eventos
 @fibrapara.edu.br
GEO:-1.455183;-48.482397
X-APPLE-STRUCTURED-LOCATION;VALUE=URI;X-ADDRESS=Av. Gentil Bittencourt\, 11
 44.;X-APPLE-RADIUS=72;X-TITLE=Centro Universitário Fibra:-1.455183;-48.48
 2397
END:VEVENT
END:VCALENDAR