BEGIN:VCALENDAR
VERSION:2.0
PRODID:Events Booking
BEGIN:VEVENT
UID:69e78207b8ffe
SUMMARY:XIV Semana de Enfermagem 
DESCRIPTION:O Centro Universitário Fibra convida toda a comunidade acadêm
 ica e profissionais da saúde para a XIV Semana de Enfermagem\, que ocorre
 rá entre os dias 12 e 14 de maio de 2026. Neste ano\, celebramos a 87ª S
 emana Brasileira de Enfermagem com uma programação que une a tradição 
 do cuidado à urgência das discussões sobre o clima e a saúde global.

  Um Olhar sobre a Sustentabilidade e Justiça ClimáticaCom o tema central
  \"Enfermagem\, Sustentabilidade e Justiça Climática: desafios para o cu
 idado em saúde\"\, o evento busca refletir sobre o protagonismo do enferm
 eiro diante dos novos desafios ambientais. Como profissionais na linha de 
 frente\, a enfermagem exerce um papel vital na promoção de sistemas de s
 aúde resilientes e sustentáveis.
 \"Celebrar a enfermagem é reconhecer
  nossa história e projetar um futuro onde o cuidado técnico e a consciê
 ncia planetária caminham juntos.\" — Coordenação de Enfermagem.
 
LOCATION:Av. Gentil Bittencourt\, 1144.
DTSTART:20260512T110000Z
DTEND:20260514T160000Z
DTSTAMP:20260413T172337Z
ORGANIZER;CN=Portal de Eventos - Centro Universitário Fibra:MAILTO:eventos
 @fibrapara.edu.br
GEO:-1.455183;-48.482397
X-APPLE-STRUCTURED-LOCATION;VALUE=URI;X-ADDRESS=Av. Gentil Bittencourt\, 11
 44.;X-APPLE-RADIUS=72;X-TITLE=Centro Universitário Fibra:-1.455183;-48.48
 2397
END:VEVENT
END:VCALENDAR