BEGIN:VCALENDAR
VERSION:2.0
PRODID:Events Booking
BEGIN:VEVENT
UID:69e7999f57637
SUMMARY:I Simpósio de Saúde em Enfermagem\, Sustentabilidade e Justiça C
 limática (14)
DESCRIPTION:Programação
 
 
 
 
 Horário
 
 
 Tema do Projeto
 
 
 
 Professor Orientador
 
 
 Alunos (Representantes)
 
 
 
 
 
 
 
 08:00
 
 
 Deslizamentos de Terra
 
 
 Luciana Costa
 
 
 An
 a Katharine et al.
 
 
 
 
 08:15
 
 
 Deslizamentos em Icoaraci

  
 
 Clebson
 
 
 Vivian Gomes et al.
 
 
 
 
 08:30
 
 
 Ass
 istência em Enchentes
 
 
 Luciana Costa
 
 
 Maria Josicleia et al
 .
 
 
 
 
 08:45
 
 
 Enchentes e Canais Urbanos
 
 
 Fábio Co
 nceição
 
 
 Gustavo Caripunas et al.
 
 
 
 
 09:00
 
 
 Tec
 nologia para Eventos Climáticos
 
 
 Nathalie Mendes
 
 
 Kamilly d
 e Moraes et al.
 
 
 
 
 09:15
 
 
 Escassez Hídrica e Diarreia

  
 
 Flávia Nicolau
 
 
 Ana Áurea et al.
 
 
 
 
 09:30
 
 
 
 Prevenção de Dengue na Infância
 
 
 Débora Neri
 
 
 Maria J
 uliana et al.
 
 
 
 
 09:45
 
 
 Clima e Saúde Respiratória
 
 
 
 Nicole Jucá
 
 
 Daniela Paiva et al.
 
 
 
 
 10:00
 
 

  Saúde Materno-Infantil Planetária
 
 
 Nicole Jucá
 
 
 Izabelli
  Silva et al.
 
 
 
 
 10:15
 
 
 Mudanças Climáticas e Conscien
 tização
 
 
 Flávia Nicolau
 
 
 Amanda Oliveira et al.
 
 
 
 
 
 10:30
 
 
 Jogos e Arboviroses
 
 
 Débora Neri
 
 
 Camill
 y Carvalho et al.
 
 
 
 
 10:45
 
 
 Resíduos Hospitalares e Amb
 iente
 
 
 Flávia
 
 
 Evellyn Miranda et al.
 
 
 
 
 11:00

  
 
 Descarte de Perfurocortantes
 
 
 Flávia Nicolau
 
 
 Meckde
 cy Ferreira et al.
 
 
 
 
 11:15
 
 
 Gestão Sustentável de Res
 íduos
 
 
 Débora Neri
 
 
 Ana Cristine et al.
 
 
 
 
 11:3
 0
 
 
 Uso Racional de Insumos
 
 
 Nathalie Mendes
 
 
 Alícía
  Araújo et al.
 
 
 
 
 11:45
 
 
 Biossegurança e Descarte
 

  
 Nathalie Mendes
 
 
 Bruna Gomes et al.
 
 
 
 
 12:00
 
 

  Horta Sustentável e Crônicas
 
 
 Débora Neri
 
 
 Elizaine Gome
 s et al.
 
 
 
 
 12:15
 
 
 Educação Ambiental e Prevenção
 
 
 
 Walquiria Rodrigues
 
 
 Lanny Ogushi et al.
 
 
 
 
LOCATION:Av. Gentil Bittencourt\, 1144.
DTSTART:20260514T110000Z
DTEND:20260514T160000Z
DTSTAMP:20260413T172337Z
ORGANIZER;CN=Portal de Eventos - Centro Universitário Fibra:MAILTO:eventos
 @fibrapara.edu.br
GEO:-1.455183;-48.482397
X-APPLE-STRUCTURED-LOCATION;VALUE=URI;X-ADDRESS=Av. Gentil Bittencourt\, 11
 44.;X-APPLE-RADIUS=72;X-TITLE=Centro Universitário Fibra:-1.455183;-48.48
 2397
END:VEVENT
END:VCALENDAR