BEGIN:VCALENDAR
VERSION:2.0
PRODID:Events Booking
BEGIN:VEVENT
UID:69e798b747547
SUMMARY:I Simpósio de Saúde em Enfermagem\, Sustentabilidade e Justiça C
 limática (13 - Noite)
DESCRIPTION:Programação
 
 
 
 
 Horário
 
 
 Tema do Projeto
 
 
 
 Professor Orientador
 
 
 Alunos (Representantes)
 
 
 
 
 
 
 
 19:00
 
 
 Virose da Mosca e Peixe Seco
 
 
 Valquiria Rodrigue
 s
 
 
 Sarah Helen et al.
 
 
 
 
 19:15
 
 
 Doença de Haff e
  Pescado
 
 
 Nicole Jucá Monteiro
 
 
 Suelen Rodrigues et al.
 
 
 
 
 
 19:30
 
 
 Intoxicação por Peixe Seco
 
 
 Katia do Soc
 orro Lima
 
 
 Ana Beatriz P. et al.
 
 
 
 
 19:45
 
 
 Mercú
 rio em Peixe Fresco
 
 
 Mª Perpétuo Socorro
 
 
 Christyane Vanes
 sa et al.
 
 
 
 
 20:00
 
 
 Comércio de Carnes e Microbiologia
 
 
 
 Mª Perpétuo Socorro
 
 
 Giovanna Gabrieli et al.
 
 
 
 
LOCATION:Av. Gentil Bittencourt\, 1144.
DTSTART:20260513T220000Z
DTEND:20260514T000000Z
DTSTAMP:20260413T172337Z
ORGANIZER;CN=Portal de Eventos - Centro Universitário Fibra:MAILTO:eventos
 @fibrapara.edu.br
GEO:-1.455183;-48.482397
X-APPLE-STRUCTURED-LOCATION;VALUE=URI;X-ADDRESS=Av. Gentil Bittencourt\, 11
 44.;X-APPLE-RADIUS=72;X-TITLE=Centro Universitário Fibra:-1.455183;-48.48
 2397
END:VEVENT
END:VCALENDAR