BEGIN:VCALENDAR
VERSION:2.0
PRODID:Events Booking
BEGIN:VEVENT
UID:69e96050e8446
SUMMARY:XIII Encontro das Licenciaturas “EDUCAÇÃO PARAENSE EM SEUS MÚL
 TIPLOS CONTEXTOS” - 1º Dia
DESCRIPTION:Visando discutir sobre os variados contextos educacionais do Es
 tado do Pará\, como\, por exemplo: educação no campo\, educação ribei
 rinha\, classe hospitalar etc.\, o XIII Encontro das Licenciaturas do Cent
 ro Universitário Fibra\, apresenta\, neste ano\, o tema “Educação Par
 aense em Seus Múltiplos Contextos”. O Encontro contará com a participa
 ção de discentes e docentes da Fibra e\, também\, de professores de out
 ras instituições.
 &nbsp\;Inscrição Solidária: doação de 1 quilo d
 e alimento não perecível\, entregue no momento do check-in
LOCATION:Av. Gentil Bittencourt\, 1144.
DTSTART:20221117T210000Z
DTEND:20221118T010000Z
DTSTAMP:20221111T210720Z
ORGANIZER;CN=Portal de Eventos - Centro Universitário Fibra:MAILTO:eventos
 @fibrapara.edu.br
GEO:-1.455183;-48.482397
X-APPLE-STRUCTURED-LOCATION;VALUE=URI;X-ADDRESS=Av. Gentil Bittencourt\, 11
 44.;X-APPLE-RADIUS=72;X-TITLE=Centro Universitário Fibra:-1.455183;-48.48
 2397
END:VEVENT
END:VCALENDAR