BEGIN:VCALENDAR
VERSION:2.0
PRODID:Events Booking
BEGIN:VEVENT
UID:69e93105434af
SUMMARY:XI Encontro de Pedagogia - Inovação e Criatividade na Educação
DESCRIPTION:Um dos principais pilares da sociedade é a educação\, afinal
 \, é por meio dela que os indivíduos tornam-se seres sociais\, críticos
  e aptos a conviver entre seus pares. Desta forma\, a inovação na educa
 ção é um ação que deve ser pensada constantemente\, uma vez que a soc
 iedade se modifica rapidamente e os alunos de ontem\, não são os mesmos 
 de hoje.O momento atual requer novas ferramentas\, outros olhares e maneir
 a diferentes de pensar o ensino. Assim a inovação é necessária para el
 aborar novos parâmetro e outras formas de ensinar. Contudo\, devemos comp
 reender que a criatividade precede a concepção de inovar\, pois falar de
  inovação requer partir do princípio de uma ideia criativa que será or
 ganizada e materializada em algo novo\, podendo ser um produto\, uma prát
 ica ou ações inovadoras.E foi por este motivo\, que escolhemos o tema Cr
 iatividade e Inovação na Educação para o XI Encontro de Pedagogia\, vi
 sando a discussão sobre um ensino criativo que busca ultrapassar barreira
 s e defina a escola contemporânea como criativa e inovadora\, disposta a 
 transformar o seu fazer pedagógico\, coletivo\, de forma consciente e ema
 ncipatória\, atenta para si e para o seu entorno\, como parte integrante 
 da sociedade.
 &nbsp\;
 Evento aberto ao público externo.
LOCATION:Av. Gentil Bittencourt\, 1144.
DTSTART:20230517T180000Z
DTEND:20230526T010000Z
DTSTAMP:20230515T233352Z
ORGANIZER;CN=Portal de Eventos - Centro Universitário Fibra:MAILTO:eventos
 @fibrapara.edu.br
GEO:-1.455183;-48.482397
X-APPLE-STRUCTURED-LOCATION;VALUE=URI;X-ADDRESS=Av. Gentil Bittencourt\, 11
 44.;X-APPLE-RADIUS=72;X-TITLE=Centro Universitário Fibra:-1.455183;-48.48
 2397
END:VEVENT
END:VCALENDAR