BEGIN:VCALENDAR
VERSION:2.0
PRODID:Events Booking
BEGIN:VEVENT
UID:69e8d7172201c
SUMMARY:X JORNADA DA SAÚDE : Saúde e qualidade de vida
DESCRIPTION:Inscrição Solidária: doação de 1 quilo de alimento não pe
 recível\, entregue no momento do check-in
 Evento aberto ao público ext
 erno
LOCATION:Av. Gentil Bittencourt\, 1144.
DTSTART:20221129T160000Z
DTEND:20221130T210000Z
DTSTAMP:20221117T181604Z
ORGANIZER;CN=Portal de Eventos - Centro Universitário Fibra:MAILTO:eventos
 @fibrapara.edu.br
GEO:-1.455183;-48.482397
X-APPLE-STRUCTURED-LOCATION;VALUE=URI;X-ADDRESS=Av. Gentil Bittencourt\, 11
 44.;X-APPLE-RADIUS=72;X-TITLE=Centro Universitário Fibra:-1.455183;-48.48
 2397
END:VEVENT
END:VCALENDAR