BEGIN:VCALENDAR
VERSION:2.0
PRODID:Events Booking
BEGIN:VEVENT
UID:69e9eae023385
SUMMARY:Workshop Startup Garage SEBRAE Startups
DESCRIPTION:O Workshop Startup Garage SEBRAE Startups é um evento promovid
 o pelo curso de Administração do Centro Universitário Fibra\, em parcer
 ia com o Sebrae\, voltado para o desenvolvimento do espírito empreendedor
  e a criação de startups.
 Ele acontecerá nos dias 16\, 20\, 21\, 22 e
  23 de outubro\, no Laboratório de Anatomia e Fisiologia (3º andar)\, da
 s 18h40 às 22h30. O workshop terá 40 vagas disponíveis e será gratuito
  e exclusivo para alunos de Administração.
 O objetivo principal é pro
 porcionar aos participantes uma imersão prática em inovação\, modelage
 m de negócios e empreendedorismo\, estimulando ideias criativas e o apren
 dizado de ferramentas usadas na construção de startups reais.
LOCATION:Av. Gentil Bittencourt\, 1144.
DTSTART:20251016T214000Z
DTEND:20251024T013000Z
DTSTAMP:20251009T164113Z
ORGANIZER;CN=Portal de Eventos - Centro Universitário Fibra:MAILTO:eventos
 @fibrapara.edu.br
GEO:-1.455183;-48.482397
X-APPLE-STRUCTURED-LOCATION;VALUE=URI;X-ADDRESS=Av. Gentil Bittencourt\, 11
 44.;X-APPLE-RADIUS=72;X-TITLE=Centro Universitário Fibra:-1.455183;-48.48
 2397
END:VEVENT
END:VCALENDAR