BEGIN:VCALENDAR
VERSION:2.0
PRODID:Events Booking
BEGIN:VEVENT
UID:69e91b9a24c83
SUMMARY:VIII JORNADA DE EVIDÊNCIAS CIENTÍFICAS EM NUTRIÇÃO - 3º dia
DESCRIPTION:Programação
 Dia 11.1208:00: Apresentação Memorial Profiss
 ional: Dra. Lylis Nunes9:30 Tema: Compostos anti-inflamatórios como estra
 tégia terapêutica aliada ao tratamento da endometriose10:00 Tema: Disbio
 se intestinal e sua conexão com o transtorno do espectro autista - TEA: u
 ma revisão da literatura.11:00 Tema: VIGITEL11:00 Tema: A influência da 
 terapia nutricional no tratamento da Depressão: uma revisão integrativa.
 11:30 Tema: Diabetes mellitus tipo 2 e a dieta mediterrânea como terapia 
 nutricional na prevenção e melhora clínica
LOCATION:Av. Gentil Bittencourt\, 1144.
DTSTART:20241211T110000Z
DTEND:20241211T150000Z
DTSTAMP:20241204T161125Z
ORGANIZER;CN=Portal de Eventos - Centro Universitário Fibra:MAILTO:eventos
 @fibrapara.edu.br
GEO:-1.455183;-48.482397
X-APPLE-STRUCTURED-LOCATION;VALUE=URI;X-ADDRESS=Av. Gentil Bittencourt\, 11
 44.;X-APPLE-RADIUS=72;X-TITLE=Centro Universitário Fibra:-1.455183;-48.48
 2397
END:VEVENT
END:VCALENDAR