BEGIN:VCALENDAR
VERSION:2.0
PRODID:Events Booking
BEGIN:VEVENT
UID:69e9ff2717837
SUMMARY:Curso de Ventilação Mecânica para Enfermagem
DESCRIPTION:A ventilação mecânica (VM)&nbsp\;é&nbsp\;um método de supo
 rte de vida avançado que utiliza uma máquina para ajudar a entrada e a s
 aída de ar nos pulmões de pessoas com insuficiência respiratória.
 A&
 nbsp\;VM pode ser invasiva ou não invasiva\, e o seu objetivo é melhorar
  as trocas gasosas\, reduzir o trabalho respiratório\, aumentar os nívei
 s de oxigenação e diminuir a hipercapnia e a acidose respiratória.
 Ob
 s: Trazer jaleco.
 
 &nbsp\;
LOCATION:Av. Gentil Bittencourt\, 1144.
DTSTART:20241019T110000Z
DTEND:20241019T150000Z
DTSTAMP:20240904T020303Z
ORGANIZER;CN=Portal de Eventos - Centro Universitário Fibra:MAILTO:eventos
 @fibrapara.edu.br
GEO:-1.455183;-48.482397
X-APPLE-STRUCTURED-LOCATION;VALUE=URI;X-ADDRESS=Av. Gentil Bittencourt\, 11
 44.;X-APPLE-RADIUS=72;X-TITLE=Centro Universitário Fibra:-1.455183;-48.48
 2397
END:VEVENT
END:VCALENDAR