BEGIN:VCALENDAR
VERSION:2.0
PRODID:Events Booking
BEGIN:VEVENT
UID:69e91ab42875f
SUMMARY:Curso de Extensão - Ventilação mecânica básica: conceitos inic
 iais
DESCRIPTION:O Objetivo do curso é Capacitar o aluno quanto aos princípios
  básicos da ventilação mecânica e as diferenças entre os modos ventil
 atórios convencionais\, bem como a modalidade de ventilação mais apropr
 iada para as diferentes patologias respiratórias.Compreensão dos pilares
  que alicerçam a ventilação mecânica no paciente crítico. O aluno rec
 eberá o certificado do Curso de Ventilação Mecânica básica: conceitos
  iniciais.
 Público alvo: Acadêmicos e Profissionais de saúde ( Medici
 na\, Enfermagem e Fisioterapia)
 
DTSTART:20230923T110000Z
DTEND:20230923T150000Z
DTSTAMP:20230908T150002Z
ORGANIZER;CN=Portal de Eventos - Centro Universitário Fibra:MAILTO:eventos
 @fibrapara.edu.br
END:VEVENT
END:VCALENDAR