BEGIN:VCALENDAR
VERSION:2.0
PRODID:Events Booking
BEGIN:VEVENT
UID:69e9451085413
SUMMARY:V Encontro De Literatura Afro-Brasileira: Da produção à Recepç
 ão: Caminhos da Literatura Afro-Brasileira na Escola
DESCRIPTION:A produção literária afro-brasileira tem uma história rica 
 e vibrante\, que reflete as experiências\, lutas e conquistas do povo neg
 ro no Brasil. No entanto\, muitas vezes\, essa produção é negligenciada
  nos currículos escolares\, perpetuando a invisibilidade e marginalizaç
 ão da cultura afro-brasileira. Nesse contexto\, discutir e promover a lit
 eratura afro-brasileira na escola torna-se fundamental para visibilizar a 
 diversidade cultural\, combater o racismo e construir uma sociedade mais i
 nclusiva.
 &nbsp\;
 Programação:
 Mesa redonda: Da produção à Rece
 pção: caminhos da Literatura Afro-Brasileira na Escola
 Professora Lind
 óia Castro Moreira
 Escritor Preto Michel
 Professor Silvio Leonardo
 
 Mediação: Profa. Dra. Sonia Albuquerque
 Apresentação de Comunicaçõ
 es
 Discentes:&nbsp\;
 Tema: Machado de Assis – Afrodescendente
 Ales
 sandra Rodrigues\, Paloma Jeniffer da Silva e Ieda Nogueira
 Tema: Maria 
 Firmina dos Reis – Úrsula
 Milena Costa
 Tema: Conceição Evaristo 
 – Ponciá Vicêncio
 Gabriela Carmo dos Santos\, Emily Siqueira da Silv
 a e Bruna Guimarães
 Tema: Carolina Maria de Jesus - Quarto de despejo

  Calíope Janaína Oliveira e Ramiro Eduardo Franco
LOCATION:Av. Gentil Bittencourt\, 1144.
DTSTART:20230531T220000Z
DTEND:20230601T010000Z
DTSTAMP:20230529T151142Z
ORGANIZER;CN=Portal de Eventos - Centro Universitário Fibra:MAILTO:eventos
 @fibrapara.edu.br
GEO:-1.455183;-48.482397
X-APPLE-STRUCTURED-LOCATION;VALUE=URI;X-ADDRESS=Av. Gentil Bittencourt\, 11
 44.;X-APPLE-RADIUS=72;X-TITLE=Centro Universitário Fibra:-1.455183;-48.48
 2397
END:VEVENT
END:VCALENDAR