BEGIN:VCALENDAR
VERSION:2.0
PRODID:Events Booking
BEGIN:VEVENT
UID:69e9fe8959d15
SUMMARY:Uso da Inteligência Artificial em Pesquisas em Psicologia
DESCRIPTION:Venha participar da Palestra “Uso da Inteligência Artificial
  em Pesquisas em Psicologia”\, um espaço de reflexão e atualização s
 obre como as novas tecnologias estão transformando a produção de conhec
 imento científico na área. A atividade abordará aplicações práticas 
 da IA no campo da Psicologia\, seus potenciais benefícios e os desafios 
 éticos e metodológicos que emergem desse processo. Uma oportunidade úni
 ca para ampliar sua visão crítica\, dialogar com especialistas e engajar
 -se em debates fundamentais para o futuro da pesquisa psicológica.
 
LOCATION:Av. Gentil Bittencourt\, 1144.
DTSTART:20250908T113000Z
DTEND:20250908T133000Z
DTSTAMP:20250902T184135Z
ORGANIZER;CN=Portal de Eventos - Centro Universitário Fibra:MAILTO:eventos
 @fibrapara.edu.br
GEO:-1.455183;-48.482397
X-APPLE-STRUCTURED-LOCATION;VALUE=URI;X-ADDRESS=Av. Gentil Bittencourt\, 11
 44.;X-APPLE-RADIUS=72;X-TITLE=Centro Universitário Fibra:-1.455183;-48.48
 2397
END:VEVENT
END:VCALENDAR