BEGIN:VCALENDAR
VERSION:2.0
PRODID:Events Booking
BEGIN:VEVENT
UID:69e9fddd9bb3c
SUMMARY:Treinamento Prático de RCP (Reanimação Cardiorrespiratória)
DESCRIPTION:Você já pensou que\, logo no início da sua jornada acadêmic
 a\, você pode aprender a técnica que salva vidas?&nbsp\;Convidamos todos
  os ingressantes para o Treinamento Prático de RCP (Reanimação Cardiorr
 espiratória).Um momento fundamental para sua formação profissional e pa
 ra a sua segurança no dia a dia.
 
LOCATION:Av. Gentil Bittencourt\, 1144.
DTSTART:20260213T140000Z
DTEND:20260213T150000Z
DTSTAMP:20260115T155227Z
ORGANIZER;CN=Portal de Eventos - Centro Universitário Fibra:MAILTO:eventos
 @fibrapara.edu.br
GEO:-1.455183;-48.482397
X-APPLE-STRUCTURED-LOCATION;VALUE=URI;X-ADDRESS=Av. Gentil Bittencourt\, 11
 44.;X-APPLE-RADIUS=72;X-TITLE=Centro Universitário Fibra:-1.455183;-48.48
 2397
END:VEVENT
END:VCALENDAR