BEGIN:VCALENDAR
VERSION:2.0
PRODID:Events Booking
BEGIN:VEVENT
UID:69e9fe1c908e6
SUMMARY:Curso de Extensão \"Terapias Injetáveis\"
DESCRIPTION:O curso tem como objetivos aprimorar o conhecimento dos alunos 
 sobre injetáveis\; mostrar as técnicas de cada uma das vias de administr
 ação que engloba os injetáveis\; entender e aplicar as particularidades
  de cada uma das vias\, sempre visando\, acima de tudo\, a segurança do p
 aciente e do profissional\; e entender a importância da legislação e é
 tica na prática de injetáveis.Alerta de Biossegurança:- O curso só é 
 permitido para maiores de 18 anos- O aluno deve estar de calça comprida- 
 Sapatos fechados (tênis ou bota\, não pode ser sapatilha)- Portar o jale
 co- Unhas curtas- Cabelo preso. Evite também acessórios
 &nbsp\;
 
LOCATION:Av. Gentil Bittencourt\, 1144.
DTSTART:20230909T110000Z
DTEND:20230909T200000Z
DTSTAMP:20230828T145510Z
ORGANIZER;CN=Portal de Eventos - Centro Universitário Fibra:MAILTO:eventos
 @fibrapara.edu.br
GEO:-1.455183;-48.482397
X-APPLE-STRUCTURED-LOCATION;VALUE=URI;X-ADDRESS=Av. Gentil Bittencourt\, 11
 44.;X-APPLE-RADIUS=72;X-TITLE=Centro Universitário Fibra:-1.455183;-48.48
 2397
END:VEVENT
END:VCALENDAR