BEGIN:VCALENDAR
VERSION:2.0
PRODID:Events Booking
BEGIN:VEVENT
UID:69e9fefcdfc4c
SUMMARY:Tecnologia\, Pesquisa e Produção Científica
DESCRIPTION:O&nbsp\;Curso de Extensão “Tecnologia\, Pesquisa e Produçã
 o Científica”&nbsp\;oferece uma abordagem prática sobre a inter-relaç
 ão entre tecnologia e pesquisa científica\,&nbsp\;com ênfase no uso ét
 ico e estratégico de ferramentas digitais\, sobretudo de Inteligência Ar
 tificial. Com foco na leitura crítica e na produção de textos científi
 cos de qualidade\, o curso explora normas de publicação\, metodologias d
 e investigação e estratégias para a elaboração de trabalhos acadêmic
 os. Além disso\, os participantes terão a oportunidade de refletir sobre
  o impacto das novas tecnologias no desenvolvimento da pesquisa e na conso
 lidação do conhecimento científico.
 Público: Estudantes e profission
 ais de todas as áreas
 
LOCATION:Av. Gentil Bittencourt\, 1144.
DTSTART:20250426T110000Z
DTEND:20250426T190000Z
DTSTAMP:20250310T150900Z
ORGANIZER;CN=Portal de Eventos - Centro Universitário Fibra:MAILTO:eventos
 @fibrapara.edu.br
GEO:-1.455183;-48.482397
X-APPLE-STRUCTURED-LOCATION;VALUE=URI;X-ADDRESS=Av. Gentil Bittencourt\, 11
 44.;X-APPLE-RADIUS=72;X-TITLE=Centro Universitário Fibra:-1.455183;-48.48
 2397
END:VEVENT
END:VCALENDAR