BEGIN:VCALENDAR
VERSION:2.0
PRODID:Events Booking
BEGIN:VEVENT
UID:69e9fe11ed638
SUMMARY:Suporte Básico de Vida
DESCRIPTION:Objetivos do curso: O objetivo do curso é&nbsp\;capacitar acad
 êmicos da área da saúde\, profissionais de outras áreas/ou público qu
 e não da saúde a identificar uma vítima em PCR e proceder na realizaç
 ão das manobras de reanimação cardiopulmonar\, detalhar o seu papel dia
 nte de parada cardiorrespiratória e determinar a sua importância na cade
 ia da sobrevivência.
 Público alvo: Acadêmicos de enfermagem e outras 
 áreas da saúde\, outras áreas que não a da saúde e público em geral.
 
 Conteúdo do Curso:
 
 O que é o suporte básico de vida e sua impor
 tância\;
 Principais causas de Parada cardiorrespiratória\;
 O que é 
 ressuscitação cardiopulmonar (RCP)\;
 Principais objetivos da RCP\;
 A
 plicabilidade do suporte básico de vida (BLS)\;
 Cadeia de Sobrevivênci
 a\;
 Uso do DEA (Desfibrilador externo automático) no suporta básico de
  vida.
 Prática de RCP em manequins e uso de DEA.
 
 
LOCATION:Av. Gentil Bittencourt\, 1144.
DTSTART:20250215T110000Z
DTEND:20250215T190000Z
DTSTAMP:20250127T144617Z
ORGANIZER;CN=Portal de Eventos - Centro Universitário Fibra:MAILTO:eventos
 @fibrapara.edu.br
GEO:-1.455183;-48.482397
X-APPLE-STRUCTURED-LOCATION;VALUE=URI;X-ADDRESS=Av. Gentil Bittencourt\, 11
 44.;X-APPLE-RADIUS=72;X-TITLE=Centro Universitário Fibra:-1.455183;-48.48
 2397
END:VEVENT
END:VCALENDAR