BEGIN:VCALENDAR
VERSION:2.0
PRODID:Events Booking
BEGIN:VEVENT
UID:69e9fe75559ed
SUMMARY:Suporte Avançado de Vida
DESCRIPTION:Objetivos do curso: Capacitar acadêmicos de enfermagem e enfer
 meiros na assistência ao paciente em parada cardiorrespiratória utilizan
 do o suporte avançado de vida.
 Público alvo: Acadêmicos e profissiona
 is de enfermagem.
 Conteúdo do Curso:&nbsp\;&nbsp\;
 
 O que é o supo
 rte avançado de vida\;
 Cadeia de sobrevivência no suporte avançado de
  vida\;
 Principais causas de PCR intrahospitalar\;
 Conhecendo arritmia
 s que levam a PCR\;
 Algoritmo de PCR para adultos\;
 Prática de RCP em
  manequins no laboratório de simulação realística.
 
 
LOCATION:Av. Gentil Bittencourt\, 1144.
DTSTART:20250517T110000Z
DTEND:20250517T190000Z
DTSTAMP:20250408T201142Z
ORGANIZER;CN=Portal de Eventos - Centro Universitário Fibra:MAILTO:eventos
 @fibrapara.edu.br
GEO:-1.455183;-48.482397
X-APPLE-STRUCTURED-LOCATION;VALUE=URI;X-ADDRESS=Av. Gentil Bittencourt\, 11
 44.;X-APPLE-RADIUS=72;X-TITLE=Centro Universitário Fibra:-1.455183;-48.48
 2397
END:VEVENT
END:VCALENDAR