BEGIN:VCALENDAR
VERSION:2.0
PRODID:Events Booking
BEGIN:VEVENT
UID:69e9ff26b7f4a
SUMMARY:SINAIS VITAIS PARA ENFERMAGEM
DESCRIPTION:Os sinais vitais (SSVV) são indicadores do estado de saúde e 
 da garantia das funções circulatória\, respiratória\, neural e endócr
 ina do corpo.&nbsp\;&nbsp\;Podem servir como mecanismos de comunicação u
 niversal sobre o estado do paciente e da gravidade da doença.
 Evento ex
 clusivo para turma da noite.
 
LOCATION:Av. Gentil Bittencourt\, 1144.
DTSTART:20240524T210000Z
DTEND:20240524T220000Z
DTSTAMP:20240515T225133Z
ORGANIZER;CN=Portal de Eventos - Centro Universitário Fibra:MAILTO:eventos
 @fibrapara.edu.br
GEO:-1.455183;-48.482397
X-APPLE-STRUCTURED-LOCATION;VALUE=URI;X-ADDRESS=Av. Gentil Bittencourt\, 11
 44.;X-APPLE-RADIUS=72;X-TITLE=Centro Universitário Fibra:-1.455183;-48.48
 2397
END:VEVENT
END:VCALENDAR