BEGIN:VCALENDAR
VERSION:2.0
PRODID:Events Booking
BEGIN:VEVENT
UID:69e9e59b93047
SUMMARY:Simulado OAB 38 - Damásio
DESCRIPTION:Simulado para a primeira fase do 38º Exame de Ordem.
 Evento 
 aberto ao público externo.
LOCATION:Av. Gentil Bittencourt\, 1144.
DTSTART:20230520T120000Z
DTEND:20230520T160000Z
DTSTAMP:20230504T221241Z
ORGANIZER;CN=Portal de Eventos - Centro Universitário Fibra:MAILTO:eventos
 @fibrapara.edu.br
GEO:-1.455183;-48.482397
X-APPLE-STRUCTURED-LOCATION;VALUE=URI;X-ADDRESS=Av. Gentil Bittencourt\, 11
 44.;X-APPLE-RADIUS=72;X-TITLE=Centro Universitário Fibra:-1.455183;-48.48
 2397
END:VEVENT
END:VCALENDAR