BEGIN:VCALENDAR
VERSION:2.0
PRODID:Events Booking
BEGIN:VEVENT
UID:69e9e58c9bc61
SUMMARY:Simulado OAB 38 - CERS
DESCRIPTION:Simulado para a primeira fase do 38º Exame de Ordem.
 Premia
 ção para os 2 melhores colocados com bolsa 100% integral.
 Evento abert
 o ao público externo.
LOCATION:Av. Gentil Bittencourt\, 1144.
DTSTART:20230624T120000Z
DTEND:20230624T160000Z
DTSTAMP:20230504T221436Z
ORGANIZER;CN=Portal de Eventos - Centro Universitário Fibra:MAILTO:eventos
 @fibrapara.edu.br
GEO:-1.455183;-48.482397
X-APPLE-STRUCTURED-LOCATION;VALUE=URI;X-ADDRESS=Av. Gentil Bittencourt\, 11
 44.;X-APPLE-RADIUS=72;X-TITLE=Centro Universitário Fibra:-1.455183;-48.48
 2397
END:VEVENT
END:VCALENDAR