BEGIN:VCALENDAR
VERSION:2.0
PRODID:Events Booking
BEGIN:VEVENT
UID:69e9f8dc2cf1f
SUMMARY:Simulado para o 42º Exame de Ordem
DESCRIPTION:Chegou a hora de elevar sua preparação ao próximo nível! Pa
 rticipe do&nbsp\;simulado para o 42º Exame de Ordem\, uma oportunidade es
 sencial para quem quer testar seus conhecimentos e ajustar os últimos det
 alhes antes do grande dia.
 Ao resolver questões práticas\, você ident
 ifica seus pontos fortes e áreas que precisam de reforço. Treinar com qu
 estões simuladas também ajuda a entender o estilo e a lógica das provas
  anteriores\, o que aumenta muito suas chances de sucesso!&nbsp\;Treinar c
 om questões simuladas também ajuda a entender o estilo e a lógica das p
 rovas anteriores\, o que aumenta muito suas chances de sucesso.
 Simulado
  em parceria com o Curso Studio Jurídico
 
 
LOCATION:Av. Gentil Bittencourt\, 1144.
DTSTART:20241123T120000Z
DTEND:20241123T160000Z
DTSTAMP:20241111T222105Z
ORGANIZER;CN=Portal de Eventos - Centro Universitário Fibra:MAILTO:eventos
 @fibrapara.edu.br
GEO:-1.455183;-48.482397
X-APPLE-STRUCTURED-LOCATION;VALUE=URI;X-ADDRESS=Av. Gentil Bittencourt\, 11
 44.;X-APPLE-RADIUS=72;X-TITLE=Centro Universitário Fibra:-1.455183;-48.48
 2397
END:VEVENT
END:VCALENDAR