BEGIN:VCALENDAR
VERSION:2.0
PRODID:Events Booking
BEGIN:VEVENT
UID:69e9e54e65694
SUMMARY:Simulado 1ª Fase OAB XXXIX
DESCRIPTION:Simulado para o Exame de Ordem XXXIX\, em parceria com o curso 
 Damásio para alunos e egressos do Centro Universitário Fibra.
 Escolha 
 se irá faazer online ou presencial.
 
LOCATION:Av. Gentil Bittencourt\, 1144.
DTSTART:20240309T120000Z
DTEND:20240309T160000Z
DTSTAMP:20240228T223129Z
ORGANIZER;CN=Portal de Eventos - Centro Universitário Fibra:MAILTO:eventos
 @fibrapara.edu.br
GEO:-1.455183;-48.482397
X-APPLE-STRUCTURED-LOCATION;VALUE=URI;X-ADDRESS=Av. Gentil Bittencourt\, 11
 44.;X-APPLE-RADIUS=72;X-TITLE=Centro Universitário Fibra:-1.455183;-48.48
 2397
END:VEVENT
END:VCALENDAR