BEGIN:VCALENDAR
VERSION:2.0
PRODID:Events Booking
BEGIN:VEVENT
UID:69e8d72185659
SUMMARY:Simpósio de produção e nutrição animal
DESCRIPTION:A agropecuária é um pilar importante para o desenvolvimento e
 conômico e sustentável do país e abrange diversas atividades essenciais
  a todos nós\, tanto na função de produtores no campo\, quanto como con
 sumidores de produtos de origem animal. Dia 14 de outubro é o Dia Naciona
 l da Pecuária e dia 16 de outubro é o Dia Mundial da Alimentação. Ness
 e contexto\, é importante a presença do Médico Veterinário na pecuári
 a\, que atua na produção\, reprodução e nutrição de animais\, como t
 ambém aquele que atua dentro dos estabelecimentos que abatem animais ou b
 eneficiam seus produtos. No dia 16 de Outubro\, o curso de Medicina Veteri
 nária estará promovendo palestras em alusão à Semana Agropecuária com
  olhar tanto para a produção animal\, quanto para a inspeção de produt
 os de&nbsp\;origem&nbsp\;animal.
LOCATION:Av. Gentil Bittencourt\, 1144.
DTSTART:20241016T170000Z
DTEND:20241016T210000Z
DTSTAMP:20241009T150854Z
ORGANIZER;CN=Portal de Eventos - Centro Universitário Fibra:MAILTO:eventos
 @fibrapara.edu.br
GEO:-1.455183;-48.482397
X-APPLE-STRUCTURED-LOCATION;VALUE=URI;X-ADDRESS=Av. Gentil Bittencourt\, 11
 44.;X-APPLE-RADIUS=72;X-TITLE=Centro Universitário Fibra:-1.455183;-48.48
 2397
END:VEVENT
END:VCALENDAR