BEGIN:VCALENDAR
VERSION:2.0
PRODID:Events Booking
BEGIN:VEVENT
UID:69e9fef673f6f
SUMMARY:SIMPÓSIO INTERDISCIPLINAR DE PSICOLOGIA E CIÊNCIAS DO ESPORTE
DESCRIPTION:O Simpósio de Psicologia do Esporte tem como objetivo promover
  a integração entre teoria e prática profissional\, com enfoque interdi
 sciplinar\, reunindo estudantes\, profissionais e pesquisadores da área e
 sportiva para trocas de experiências e de conhecimentos. A programação 
 inclui palestras formativas que abordam temas como desempenho esportivo\, 
 saúde mental\, ética e diferentes contextos de atuação\, valorizando o
  diálogo entre a Psicologia e outras áreas do esporte. A proposta contri
 bui para a formação acadêmica\, crítica e ética dos participantes\, f
 ortalecendo a atuação profissional no campo da Psicologia do Esporte.
 
 &nbsp\;
 HORA: 8h:30 às 12:00h. e de 19:00h às 22:00hPÚBLICO: Estudant
 es de Psicologia (Fibra) e demais interessados (discentes e docentes) inte
 rnos e externos.
 MANHÃHora: 08h30 – 08h50
 Abertura Institucional: P
 rofa. Msc. Flávia do Vale. Coordenadora da Pós-Graduação em Psicologia
  e Ciências do Esporte.Hora: 08h50 – 09h20Palestra Virtual: A atuação
  da Psicologia do Esporte em contextos específicos: estúdios de muscula
 ção.Convidada: Msc. Sabrina Vilhena.Psicóloga formada pela Universidade
  da Amazônia – UNAMA\, &nbsp\;(CRP 05/79179)\, mestre e doutoranda em P
 sicossociologia de Comunidades e Ecologia Social (EICOS/UFRJ) e especialis
 ta em Psicologia do Esporte pela PUCRS. Ex-atleta de judô\, atua como psi
 cóloga do esporte em estúdio de musculação\, refletindo sobre o cuidad
 o em saúde mental em contextos esportivos específicos. Possui também ex
 periência com lutas em iniciação esportiva e rendimento.
 INTERVALO
 
 Hora: 10h25 – 11h40Mesa-Redonda: A saúde no esporte: um olhar interdisc
 iplinarConvidada 1: Thaysse Gomes. Psicóloga formada pela Universidade da
  Amazônia (UNAMA). Atuação nas áreas de Psicologia escolar e Esportiva
  (Paysandu Esporte Clube). Pós-graduanda em Neuropsicologia. Formação e
 m Psicologia do Esporte - CBF Academy.Convidado 2: Lucas Smith Guerreiro C
 orreia. Graduado em Fisioterapia pela Faculdade Ideal (FACI). Pós-graduad
 o em Fisioterapia Esportiva (FINAMA). Pós-graduado em Fisioterapia Trauma
 to Ortopédica (FINAMA). Graduando em Educação Física. Fisioterapeuta C
 T Máxima Performance. Fisioterapeuta Tuna Luso Voleibol Sub 16 a 21. Ex F
 isioterapeuta Apade Vôlei.Convidado 3: Paulo Henrique Ramos Guimarães. E
 specialista em Nutrição Clínica. Especialista em Nutrição Esportiva. 
 Certificação internacional em Nutrição Esportiva- ACSM. Antropometrist
 a - Isak level 1.
 NOITEHora: 19:00 - 20:00Palestra: Aspectos psicológic
 os nas práticas esportivasConvidado: Prof. Msc. Manoel de Christo Neto. P
 sicólogo Clínico (Grupo e Família)\, Social e do Esporte (Clube do Remo
  – 2022). Mestre em Educação. Professor Adjunto da Universidade da Ama
 zônia (Unama). Psicólogo do Tribunal de Justiça do Estado do Pará (TJP
 A). ⁠Autor dos livros: “Psicologia do Cotidiano”\, “Notívago” e
  “Aspectos Psicológicos de uma Copa do Mundo”. Poeta e escritor. ⁠M
 embro Fundador da Academia Curuçaense de Letras\, Artes e Ciências (ACLA
 C).
 Hora: 19:00 às 22:00Lançamento de livro: Aspectos Psicológicos nu
 ma copa do mundoAutor: Manoel de Christo Neto. Editora CRV
 
LOCATION:Av. Gentil Bittencourt\, 1144.
DTSTART:20260203T113000Z
DTEND:20260204T010000Z
DTSTAMP:20260122T161349Z
ORGANIZER;CN=Portal de Eventos - Centro Universitário Fibra:MAILTO:eventos
 @fibrapara.edu.br
GEO:-1.455183;-48.482397
X-APPLE-STRUCTURED-LOCATION;VALUE=URI;X-ADDRESS=Av. Gentil Bittencourt\, 11
 44.;X-APPLE-RADIUS=72;X-TITLE=Centro Universitário Fibra:-1.455183;-48.48
 2397
END:VEVENT
END:VCALENDAR