BEGIN:VCALENDAR
VERSION:2.0
PRODID:Events Booking
BEGIN:VEVENT
UID:69e9f96fbeef7
SUMMARY:I Seminário de Reforma Tributária
DESCRIPTION:&nbsp\;
 O CRONOGRAMA DA MUDANÇA: A TRANSIÇÃO DA REFORMA TR
 IBUTÁRIA A PARTIR DE JANEIRO DE 2026
 &nbsp\;
 A Reforma Tributária de
 ixou de ser uma promessa distante para se tornar uma realidade concreta\, 
 com impactos profundos já a partir de janeiro de 2026. É exatamente ness
 e momento decisivo que surge o Seminário de Reforma Tributária – O Cro
 nograma da Mudança\, um espaço qualificado de debate\, reflexão técnic
 a e construção de caminhos seguros para a transição ao novo sistema tr
 ibutário brasileiro. O evento é uma realização conjunta do Centro Univ
 ersitário Fibra&nbsp\;e da Associação Nacional dos Auditores Fiscais da
  Receita Federal do Brasil – Representação Pará\, reforçando o compr
 omisso institucional com a formação crítica\, o diálogo interinstituci
 onal e a difusão de conhecimento técnico de alto nível.
 Durante três
  dias intensos de programação\, o seminário reunirá autoridades\, espe
 cialistas\, representantes do fisco\, do setor produtivo\, da advocacia e 
 da academia para analisar\, de forma aprofundada\, o novo modelo de tribut
 ação do consumo e os seus efeitos econômicos\, jurídicos e federativos
 . Mais do que apresentar conceitos\, o evento enfrenta os desafios concret
 os da implementação da reforma\, abordando o IVA Dual (IBS e CBS)\, a at
 uação do Comitê Gestor do IBS\, a fase de regulamentação\, os impacto
 s setoriais\, a segurança jurídica no período de transição e o papel 
 estratégico de estados e municípios — com especial atenção à realid
 ade amazônica.
 O seminário ocorrerá no Auditório do Centro Universit
 ário Fibra\, em Belém do Pará\, ambiente que se consolida como espaço 
 de diálogo qualificado sobre os grandes temas nacionais. Trata-se de uma 
 oportunidade singular para quem deseja antecipar cenários\, reduzir risco
 s e transformar informação técnica em vantagem estratégica. Advogados\
 , contadores\, gestores públicos\, empresários\, estudantes e pesquisado
 res encontrarão um espaço propício ao networking institucional\, à atu
 alização profissional e à compreensão aprofundada da maior transforma
 ção do sistema tributário brasileiro das últimas décadas.
 
 &nbsp\
 ;
 Apoio:
 
 
 
 
 
 
 
 
 
 
 
 
 
 
 
 
 
 
 
 &nbs
 p\;
 &nbsp\;
LOCATION:Av. Gentil Bittencourt\, 1144.
DTSTART:20260309T110000Z
DTEND:20260311T163000Z
DTSTAMP:20260130T030551Z
ORGANIZER;CN=Portal de Eventos - Centro Universitário Fibra:MAILTO:eventos
 @fibrapara.edu.br
GEO:-1.455183;-48.482397
X-APPLE-STRUCTURED-LOCATION;VALUE=URI;X-ADDRESS=Av. Gentil Bittencourt\, 11
 44.;X-APPLE-RADIUS=72;X-TITLE=Centro Universitário Fibra:-1.455183;-48.48
 2397
END:VEVENT
END:VCALENDAR